BEGIN:VCALENDAR
VERSION:2.0
PRODID:icalendar-ruby
CALSCALE:GREGORIAN
METHOD:PUBLISH
BEGIN:VEVENT
DTSTAMP:20260421T085629Z
UID:91-380022@newingtonbc.org
DTSTART:20260622T130000Z
DTEND:20260626T160000Z
CLASS:PUBLIC
CREATED:20260413T091254
DESCRIPTION:
LAST-MODIFIED:20260413T091254
LOCATION:Newington Baptist Church
SUMMARY:Vacation Bible School
URL;VALUE=URI:https://newingtonbc.org/events/vacation-bible-school--91/2026
 -06-22
ATTACH;FILENAME=VBS-Registration-for-bulletin-and-website.png;FMTTYPE=image
 /png:https://dq5pwpg1q8ru0.cloudfront.net/2026/04/13/13/12/53/cea95439-f8f
 9-469a-b6e4-8592ee9f6530/VBS-Registration-for-bulletin-and-website.png
END:VEVENT
END:VCALENDAR
